BEGIN:VCALENDAR
VERSION:2.0
PRODID:-//Guru Nanak Darbar - ECPv6.15.20//NONSGML v1.0//EN
CALSCALE:GREGORIAN
METHOD:PUBLISH
X-WR-CALNAME:Guru Nanak Darbar
X-ORIGINAL-URL:https://gurunanakdarbar.se
X-WR-CALDESC:Events for Guru Nanak Darbar
REFRESH-INTERVAL;VALUE=DURATION:PT1H
X-Robots-Tag:noindex
X-PUBLISHED-TTL:PT1H
BEGIN:VTIMEZONE
TZID:UTC
BEGIN:STANDARD
TZOFFSETFROM:+0000
TZOFFSETTO:+0000
TZNAME:UTC
DTSTART:20240101T000000
END:STANDARD
END:VTIMEZONE
BEGIN:VEVENT
DTSTART;VALUE=DATE:20260419
DTEND;VALUE=DATE:20260420
DTSTAMP:20260423T182249
CREATED:20260417T184842Z
LAST-MODIFIED:20260417T184842Z
UID:1850-1776556800-1776643199@gurunanakdarbar.se
SUMMARY:Waisakhi
DESCRIPTION:
URL:https://gurunanakdarbar.se/event/waisakhi/
CATEGORIES:Upcoming Events
ATTACH;FMTTYPE=image/jpeg:https://gurunanakdarbar.se/wp-content/uploads/2020/02/6-visakhi-nd-sangrand-min.jpg
END:VEVENT
BEGIN:VEVENT
DTSTART;VALUE=DATE:20251221
DTEND;VALUE=DATE:20251222
DTSTAMP:20260423T182249
CREATED:20251207T162738Z
LAST-MODIFIED:20251207T162738Z
UID:1848-1766275200-1766361599@gurunanakdarbar.se
SUMMARY:Sangrand Poh
DESCRIPTION:
URL:https://gurunanakdarbar.se/event/sangrand-poh/
CATEGORIES:Upcoming Events
END:VEVENT
BEGIN:VEVENT
DTSTART;VALUE=DATE:20251130
DTEND;VALUE=DATE:20251201
DTSTAMP:20260423T182249
CREATED:20250901T194018Z
LAST-MODIFIED:20250901T194018Z
UID:1844-1764460800-1764547199@gurunanakdarbar.se
SUMMARY:Sahidi dihara Guru Teg Bahadur Sahib Ji
DESCRIPTION:
URL:https://gurunanakdarbar.se/event/sahidi-dihara-guru-teg-bahadur-sahib-ji/
CATEGORIES:Upcoming Events
END:VEVENT
BEGIN:VEVENT
DTSTART;VALUE=DATE:20251116
DTEND;VALUE=DATE:20251117
DTSTAMP:20260423T182249
CREATED:20250901T193848Z
LAST-MODIFIED:20250901T193848Z
UID:1842-1763251200-1763337599@gurunanakdarbar.se
SUMMARY:Sangrand - Maggar - shahidi dihara Sardar Kartar Singh Srabha
DESCRIPTION:
URL:https://gurunanakdarbar.se/event/sangrand-maggar-shahidi-dihara-sardar-kartar-singh-srabha/
CATEGORIES:Upcoming Events
END:VEVENT
BEGIN:VEVENT
DTSTART;VALUE=DATE:20251109
DTEND;VALUE=DATE:20251110
DTSTAMP:20260423T182249
CREATED:20250901T193652Z
LAST-MODIFIED:20250901T193652Z
UID:1840-1762646400-1762732799@gurunanakdarbar.se
SUMMARY:Shiri Guru Nanak Dev Ji prakash purb
DESCRIPTION:
URL:https://gurunanakdarbar.se/event/shiri-guru-nanak-dev-ji-prakash-purb/
CATEGORIES:Upcoming Events
ATTACH;FMTTYPE=image/jpeg:https://gurunanakdarbar.se/wp-content/uploads/2021/11/Guru-Nanak-Dev-Ji.jpg
END:VEVENT
BEGIN:VEVENT
DTSTART;TZID=UTC:20251020T160000
DTEND;TZID=UTC:20251020T190000
DTSTAMP:20260423T182249
CREATED:20250901T193456Z
LAST-MODIFIED:20251018T160049Z
UID:1838-1760976000-1760986800@gurunanakdarbar.se
SUMMARY:Diwali - Bandi shod diwas
DESCRIPTION:
URL:https://gurunanakdarbar.se/event/diwali-bandi-shod-diwas/
CATEGORIES:Upcoming Events
ATTACH;FMTTYPE=image/jpeg:https://gurunanakdarbar.se/wp-content/uploads/2021/10/diwali.jpg
END:VEVENT
BEGIN:VEVENT
DTSTART;VALUE=DATE:20251019
DTEND;VALUE=DATE:20251020
DTSTAMP:20260423T182249
CREATED:20250901T193324Z
LAST-MODIFIED:20250901T193325Z
UID:1836-1760832000-1760918399@gurunanakdarbar.se
SUMMARY:Sangrand - Kattak
DESCRIPTION:
URL:https://gurunanakdarbar.se/event/sangrand-kattak/
CATEGORIES:Upcoming Events
ATTACH;FMTTYPE=image/jpeg:https://gurunanakdarbar.se/wp-content/uploads/2020/02/langar.jpg
END:VEVENT
BEGIN:VEVENT
DTSTART;VALUE=DATE:20251005
DTEND;VALUE=DATE:20251006
DTSTAMP:20260423T182249
CREATED:20250901T193226Z
LAST-MODIFIED:20250901T193226Z
UID:1834-1759622400-1759708799@gurunanakdarbar.se
SUMMARY:Dushera
DESCRIPTION:
URL:https://gurunanakdarbar.se/event/dushera/
CATEGORIES:Upcoming Events
END:VEVENT
BEGIN:VEVENT
DTSTART;VALUE=DATE:20250921
DTEND;VALUE=DATE:20250922
DTSTAMP:20260423T182249
CREATED:20250901T193058Z
LAST-MODIFIED:20250901T193058Z
UID:1832-1758412800-1758499199@gurunanakdarbar.se
SUMMARY:Sangrand - Assu
DESCRIPTION:
URL:https://gurunanakdarbar.se/event/sangrand-assu/
CATEGORIES:Upcoming Events
ATTACH;FMTTYPE=image/jpeg:https://gurunanakdarbar.se/wp-content/uploads/2020/02/langar.jpg
END:VEVENT
BEGIN:VEVENT
DTSTART;VALUE=DATE:20250518
DTEND;VALUE=DATE:20250519
DTSTAMP:20260423T182249
CREATED:20250210T202649Z
LAST-MODIFIED:20250210T202649Z
UID:1809-1747526400-1747612799@gurunanakdarbar.se
SUMMARY:Sangrand- Jeth
DESCRIPTION:
URL:https://gurunanakdarbar.se/event/sangrand-jeth-3/
CATEGORIES:Upcoming Events
ATTACH;FMTTYPE=image/jpeg:https://gurunanakdarbar.se/wp-content/uploads/2020/02/7-sangrand-jeth-min.jpg
END:VEVENT
BEGIN:VEVENT
DTSTART;VALUE=DATE:20250413
DTEND;VALUE=DATE:20250414
DTSTAMP:20260423T182249
CREATED:20250210T202531Z
LAST-MODIFIED:20250210T202531Z
UID:1807-1744502400-1744588799@gurunanakdarbar.se
SUMMARY:Waisakhi / Sangrand
DESCRIPTION:
URL:https://gurunanakdarbar.se/event/waisakhi-sangrand-2/
CATEGORIES:Upcoming Events
ATTACH;FMTTYPE=image/jpeg:https://gurunanakdarbar.se/wp-content/uploads/2020/02/6-visakhi-nd-sangrand-min.jpg
END:VEVENT
BEGIN:VEVENT
DTSTART;VALUE=DATE:20250323
DTEND;VALUE=DATE:20250324
DTSTAMP:20260423T182249
CREATED:20250210T202318Z
LAST-MODIFIED:20250210T202318Z
UID:1805-1742688000-1742774399@gurunanakdarbar.se
SUMMARY:Shahidi divas Sardar Bhagat Singh ji
DESCRIPTION:
URL:https://gurunanakdarbar.se/event/shahidi-divas-sardar-bhagat-singh-ji-2/
CATEGORIES:Upcoming Events
ATTACH;FMTTYPE=image/jpeg:https://gurunanakdarbar.se/wp-content/uploads/2020/02/5-bhagat-singh-min.jpg
END:VEVENT
BEGIN:VEVENT
DTSTART;VALUE=DATE:20250316
DTEND;VALUE=DATE:20250317
DTSTAMP:20260423T182249
CREATED:20250210T202125Z
LAST-MODIFIED:20250210T202339Z
UID:1803-1742083200-1742169599@gurunanakdarbar.se
SUMMARY:Sangrand chet / holla mahalla
DESCRIPTION:
URL:https://gurunanakdarbar.se/event/sangrand-chet-holla-mahalla-2/
CATEGORIES:Upcoming Events
ATTACH;FMTTYPE=image/jpeg:https://gurunanakdarbar.se/wp-content/uploads/2020/02/4-chet-min.jpg
END:VEVENT
BEGIN:VEVENT
DTSTART;VALUE=DATE:20250216
DTEND;VALUE=DATE:20250217
DTSTAMP:20260423T182249
CREATED:20250210T201931Z
LAST-MODIFIED:20250210T202008Z
UID:1800-1739664000-1739750399@gurunanakdarbar.se
SUMMARY:Prakash purb Shiri Guru Ravidas ji / Sangrand phaggan
DESCRIPTION:
URL:https://gurunanakdarbar.se/event/sangrand-paggan/
CATEGORIES:Upcoming Events
END:VEVENT
END:VCALENDAR