BEGIN:VCALENDAR
VERSION:2.0
PRODID:-//Guru Nanak Darbar - ECPv6.15.20//NONSGML v1.0//EN
CALSCALE:GREGORIAN
METHOD:PUBLISH
X-ORIGINAL-URL:https://gurunanakdarbar.se
X-WR-CALDESC:Events for Guru Nanak Darbar
REFRESH-INTERVAL;VALUE=DURATION:PT1H
X-Robots-Tag:noindex
X-PUBLISHED-TTL:PT1H
BEGIN:VTIMEZONE
TZID:UTC
BEGIN:STANDARD
TZOFFSETFROM:+0000
TZOFFSETTO:+0000
TZNAME:UTC
DTSTART:20240101T000000
END:STANDARD
END:VTIMEZONE
BEGIN:VEVENT
DTSTART;VALUE=DATE:20250316
DTEND;VALUE=DATE:20250317
DTSTAMP:20260421T000128
CREATED:20250210T202125Z
LAST-MODIFIED:20250210T202339Z
UID:1803-1742083200-1742169599@gurunanakdarbar.se
SUMMARY:Sangrand chet / holla mahalla
DESCRIPTION:
URL:https://gurunanakdarbar.se/event/sangrand-chet-holla-mahalla-2/
CATEGORIES:Upcoming Events
ATTACH;FMTTYPE=image/jpeg:https://gurunanakdarbar.se/wp-content/uploads/2020/02/4-chet-min.jpg
END:VEVENT
BEGIN:VEVENT
DTSTART;VALUE=DATE:20250216
DTEND;VALUE=DATE:20250217
DTSTAMP:20260421T000128
CREATED:20250210T201931Z
LAST-MODIFIED:20250210T202008Z
UID:1800-1739664000-1739750399@gurunanakdarbar.se
SUMMARY:Prakash purb Shiri Guru Ravidas ji / Sangrand phaggan
DESCRIPTION:
URL:https://gurunanakdarbar.se/event/sangrand-paggan/
CATEGORIES:Upcoming Events
END:VEVENT
END:VCALENDAR